BEGIN:VCALENDAR
VERSION:2.0
PRODID:-//Halwill Parish Council//Meeting Calendar//EN
CALSCALE:GREGORIAN
METHOD:PUBLISH
BEGIN:VEVENT
UID:71102-20261112@halwillparishcouncil.gov.uk
DTSTAMP:20260420T083728Z
DTSTART;VALUE=DATE:20261112
DTEND;VALUE=DATE:20261113
SUMMARY:November meeting
DESCRIPTION:Full Council Meeting\nView details: https://halwillparishcouncil.gov.uk/meetings/november-meeting/
URL:https://halwillparishcouncil.gov.uk/meetings/november-meeting/
END:VEVENT
END:VCALENDAR
