BEGIN:VCALENDAR
VERSION:2.0
PRODID:-//Halwill Parish Council//Meeting Calendar//EN
CALSCALE:GREGORIAN
METHOD:PUBLISH
BEGIN:VEVENT
UID:71101-20261015@halwillparishcouncil.gov.uk
DTSTAMP:20260420T083614Z
DTSTART;VALUE=DATE:20261015
DTEND;VALUE=DATE:20261016
SUMMARY:October meeting
DESCRIPTION:Full Council Meeting\nView details: https://halwillparishcouncil.gov.uk/meetings/october-meeting/
URL:https://halwillparishcouncil.gov.uk/meetings/october-meeting/
END:VEVENT
END:VCALENDAR
