BEGIN:VCALENDAR
VERSION:2.0
PRODID:-//Halwill Parish Council//Meeting Calendar//EN
CALSCALE:GREGORIAN
METHOD:PUBLISH
BEGIN:VEVENT
UID:70539-20240613@halwillparishcouncil.gov.uk
DTSTAMP:20260420T095846Z
DTSTART;VALUE=DATE:20240613
DTEND;VALUE=DATE:20240614
SUMMARY:Council Meeting &#8211\\; 13 June 2024
DESCRIPTION:Full Council Meeting\nView details: https://halwillparishcouncil.gov.uk/meetings/council-meeting-13-june-2024/
URL:https://halwillparishcouncil.gov.uk/meetings/council-meeting-13-june-2024/
END:VEVENT
END:VCALENDAR
